BEGIN:VCALENDAR
VERSION:2.0
CALSCALE:GREGORIAN
PRODID:adamgibbons/ics
METHOD:PUBLISH
X-PUBLISHED-TTL:PT1H
BEGIN:VEVENT
UID:44@calendrier.constellationmtl.net
SUMMARY:OFFFBDM 2026
DTSTAMP:20260424T175604Z
DTSTART:20260516T150000Z
DTEND:20260517T000000Z
DESCRIPTION:C'est le retour du OFFFBDM !\n\nL'officine des absentéistes vou
	s invite a une 2 ème éditions\,\navec 2 fois plus de lieux\, 2 fois plus d
	e BD\, de zines\, de prints\, de trucs\nbizarres\, de cossins invendables 
	et de shows de musiques organisés par\n@hiatusprodmtl [https://www.instagr
	am.com/hiatusprodmtl/] 📈\n\nRendez-vous en mai au @quai_des_brumes\n[https
	://www.instagram.com/quai_des_brumes/] et au @bistrodeparis514\n[https://w
	ww.instagram.com/bistrodeparis514/] et découvrez ce qu'a planifié\nnotre é
	quipe de gnomes bédéistes 😶‍🌫️\n\nrestez au aguets pour l'annonce des artiste
	s présents\, on prépare des surprises\navec @nogloss.riso [https://www.ins
	tagram.com/nogloss.riso/]\n\n🧙‍♂️🧙‍♀️🧙🧙‍♂️🧙‍♀️🧙🧙‍♂️🧙‍♀️🧙🧙‍♂️🧙‍♀️🧙🧙‍♂️🧙‍♂️🧙🧙🧙‍♀️🧙‍♀️\n\nPoster & campagne créée
	 par @juleschanvillard\n[https://www.instagram.com/juleschanvillard/]\, av
	ec l'aide de @nogloss.riso\n[https://www.instagram.com/nogloss.riso/]
URL:https://calendrier.constellationmtl.net/event/offfbdm-2026
LOCATION:Quai des brumes - 4481 R. Saint-Denis\, Montréal\, QC H2J 2L2
STATUS:CONFIRMED
CATEGORIES:2026,books,communautaire,communityorganizing,zines
X-ALT-DESC;FMTTYPE=text/html:<p>C'est le retour du OFFFBDM !<br><br>L'offic
	ine des absentéistes vous invite a une 2 ème éditions,<br>avec 2 fois plus
	 de lieux, 2 fois plus de BD, de zines, de prints, de trucs bizarres, de c
	ossins invendables et de shows de musiques organisés par <a href="https://
	www.instagram.com/hiatusprodmtl/" target="_blank">@hiatusprodmtl</a> 📈<br>
	<br>Rendez-vous en mai au <a href="https://www.instagram.com/quai_des_brum
	es/" target="_blank">@quai_des_brumes</a> et au <a href="https://www.insta
	gram.com/bistrodeparis514/" target="_blank">@bistrodeparis514</a> et décou
	vrez ce qu'a planifié notre équipe de gnomes bédéistes 😶‍🌫️<br><br>restez au 
	aguets pour l'annonce des artistes présents, on prépare des surprises avec
	 <a href="https://www.instagram.com/nogloss.riso/" target="_blank">@noglos
	s.riso</a><br><br>🧙‍♂️🧙‍♀️🧙🧙‍♂️🧙‍♀️🧙🧙‍♂️🧙‍♀️🧙🧙‍♂️🧙‍♀️🧙🧙‍♂️🧙‍♂️🧙🧙🧙‍♀️🧙‍♀️<br><br>Poster &amp; campagne créée pa
	r <a href="https://www.instagram.com/juleschanvillard/" target="_blank">@j
	uleschanvillard</a>, avec l'aide de <a href="https://www.instagram.com/nog
	loss.riso/" target="_blank">@nogloss.riso</a></p>
BEGIN:VALARM
ACTION:DISPLAY
DESCRIPTION:OFFFBDM 2026
TRIGGER:-PT1H
END:VALARM
END:VEVENT
END:VCALENDAR
