BEGIN:VCALENDAR
VERSION:2.0
CALSCALE:GREGORIAN
PRODID:adamgibbons/ics
METHOD:PUBLISH
X-PUBLISHED-TTL:PT1H
BEGIN:VEVENT
UID:31@calendrier.constellationmtl.net
SUMMARY:Bike ride to sketchy beach (3rd annual!)
DTSTAMP:20260421T144240Z
DTSTART:20260514T210000Z
DTEND:20260515T035500Z
URL:https://calendrier.constellationmtl.net/event/bike-ride-to-sketchy-beac
	h-3rd-annual
GEO:45.4839;-73.5767
LOCATION:Dehors le CÉDA - CÉDA
STATUS:CONFIRMED
CATEGORIES:2026,beach,bike,friends
END:VEVENT
END:VCALENDAR
