BEGIN:VCALENDAR
VERSION:2.0
CALSCALE:GREGORIAN
PRODID:adamgibbons/ics
METHOD:PUBLISH
X-PUBLISHED-TTL:PT1H
BEGIN:VEVENT
UID:39@calendrier.constellationmtl.net
SUMMARY:Vers une approche pratique du consentement dans nos milieux militan
	ts
DTSTAMP:20260420T095916Z
DTSTART:20260519T213000Z
DTEND:20260520T013000Z
URL:https://calendrier.constellationmtl.net/event/vers-une-approche-pratiqu
	e-du-consentement-dans-nos-milieux-militants
LOCATION:Cité des Hospitalières - 251 av des Pins O\, Montréal
STATUS:CONFIRMED
CATEGORIES:2026,atelier,consentement
END:VEVENT
END:VCALENDAR
