BEGIN:VCALENDAR
VERSION:2.0
CALSCALE:GREGORIAN
PRODID:adamgibbons/ics
METHOD:PUBLISH
X-PUBLISHED-TTL:PT1H
BEGIN:VEVENT
UID:38@calendrier.constellationmtl.net
SUMMARY:DARKROOM_2
DTSTAMP:20260421T193047Z
DTSTART:20260516T230000Z
DTEND:20260517T020000Z
URL:https://calendrier.constellationmtl.net/event/darkroom_2
GEO:45.5146;-73.5737
LOCATION:Vêtements Common Sort - 3667 Boul. Saint-Laurent\, Montréal\, QC H
	2X 2V5
STATUS:CONFIRMED
CATEGORIES:2026,abstract,electronic,experimentale,free,musique,secret
END:VEVENT
BEGIN:VEVENT
UID:42@calendrier.constellationmtl.net
SUMMARY:The Official Unofficial Constellation Dance Party
DTSTAMP:20260421T193047Z
DTSTART:20260517T030000Z
DTEND:20260517T100000Z
URL:https://calendrier.constellationmtl.net/event/the-official-unofficial-c
	onstellation-dance-party-1
LOCATION:TBA - TBA
STATUS:CONFIRMED
CATEGORIES:2026,free,musique,party,rave
END:VEVENT
END:VCALENDAR
